BEGIN:VCALENDAR
VERSION:2.0
PRODID:-//Albuquerque Foreclosure Workshop//
X-WR-TIMEZONE:America/Denver
BEGIN:VEVENT
UID:20160824T095505MDT-4346B41Mnu@Albuquerque Foreclosure Workshop
DTSTAMP:20160824T155505Z
DTSTART;TZID=America/Denver:20151119T150000
DTEND;TZID=America/Denver:20151119T150000
RRULE:FREQ=MONTHLY;COUNT=12;INTERVAL=1;BYDAY=;BYMONTH=1,2,3,4,5,6,7,8,9,10,
 11,12;WKST=SU
SUMMARY:Albuquerque Foreclosure Workshop
END:VEVENT
END:VCALENDAR
